BEGIN:VCALENDAR
VERSION:2.0
PRODID:-//Fond du Lac Festivals - ECPv6.15.20//NONSGML v1.0//EN
CALSCALE:GREGORIAN
METHOD:PUBLISH
X-WR-CALNAME:Fond du Lac Festivals
X-ORIGINAL-URL:https://www.fdlfest.com
X-WR-CALDESC:Events for Fond du Lac Festivals
REFRESH-INTERVAL;VALUE=DURATION:PT1H
X-Robots-Tag:noindex
X-PUBLISHED-TTL:PT1H
BEGIN:VTIMEZONE
TZID:America/Chicago
BEGIN:DAYLIGHT
TZOFFSETFROM:-0600
TZOFFSETTO:-0500
TZNAME:CDT
DTSTART:20240310T080000
END:DAYLIGHT
BEGIN:STANDARD
TZOFFSETFROM:-0500
TZOFFSETTO:-0600
TZNAME:CST
DTSTART:20241103T070000
END:STANDARD
BEGIN:DAYLIGHT
TZOFFSETFROM:-0600
TZOFFSETTO:-0500
TZNAME:CDT
DTSTART:20250309T080000
END:DAYLIGHT
BEGIN:STANDARD
TZOFFSETFROM:-0500
TZOFFSETTO:-0600
TZNAME:CST
DTSTART:20251102T070000
END:STANDARD
BEGIN:DAYLIGHT
TZOFFSETFROM:-0600
TZOFFSETTO:-0500
TZNAME:CDT
DTSTART:20260308T080000
END:DAYLIGHT
BEGIN:STANDARD
TZOFFSETFROM:-0500
TZOFFSETTO:-0600
TZNAME:CST
DTSTART:20261101T070000
END:STANDARD
END:VTIMEZONE
BEGIN:VEVENT
DTSTART;TZID=America/Chicago:20250606T150000
DTEND;TZID=America/Chicago:20250606T180000
DTSTAMP:20260419T095815
CREATED:20250328T161108Z
LAST-MODIFIED:20250328T161108Z
UID:4395-1749222000-1749232800@www.fdlfest.com
SUMMARY:Touch-A-Truck
DESCRIPTION:Location: FamilyLand \n  \nEvent Details: Get up close and personal with and learn about large excavation equipment like a dump truck and a dozer! \n  \nFriday\, June 6th: 3pm – 6pm \nSaturday\, June 7th: 10am – 6pm \nSunday\, June 8th: 12pm – 4pm \n  \nSponsored by: GYR Acquisitions
URL:https://www.fdlfest.com/event/touch-a-truck-2/
CATEGORIES:Family Fun,Walleye Weekend
END:VEVENT
BEGIN:VEVENT
DTSTART;TZID=America/Chicago:20250606T160000
DTEND;TZID=America/Chicago:20250606T170000
DTSTAMP:20260419T095815
CREATED:20250326T163043Z
LAST-MODIFIED:20250513T190714Z
UID:4337-1749225600-1749229200@www.fdlfest.com
SUMMARY:Krusher
DESCRIPTION:Location: Grande Cheese Center Stage \nGenre: Hard Rock \nBand Website: CLICK HERE \nStage Sponsor: Grande Cheese \nMedia Partner: 95.1 & 96.1 The Rock
URL:https://www.fdlfest.com/event/krusher/
CATEGORIES:Live Music,Walleye Weekend
END:VEVENT
BEGIN:VEVENT
DTSTART;TZID=America/Chicago:20250606T180000
DTEND;TZID=America/Chicago:20250606T210000
DTSTAMP:20260419T095815
CREATED:20250326T165540Z
LAST-MODIFIED:20250513T192355Z
UID:4344-1749232800-1749243600@www.fdlfest.com
SUMMARY:Too Hype Crew
DESCRIPTION:Location: Holiday Automotive East Stage \nGenre: Old School Hip Hop \nBand Website: CLICK HERE \nStage Sponsor: Holiday Automotive \nMedia Partner: Sunny 97.7
URL:https://www.fdlfest.com/event/too-hype-crew/
CATEGORIES:Live Music,Walleye Weekend
END:VEVENT
BEGIN:VEVENT
DTSTART;TZID=America/Chicago:20250606T190000
DTEND;TZID=America/Chicago:20250606T220000
DTSTAMP:20260419T095815
CREATED:20250326T160017Z
LAST-MODIFIED:20250513T185820Z
UID:4332-1749236400-1749247200@www.fdlfest.com
SUMMARY:Boogie & The Yoyoz
DESCRIPTION:Location: Mercury Marine Point West Stage \nGenre: Self-Described “Everything Band” \nBand Website: CLICK HERE \nStage Sponsor: Mercury Marine \nMedia Partner: 107.1 The Bull
URL:https://www.fdlfest.com/event/boogie-the-yoyoz/
CATEGORIES:Live Music,Walleye Weekend
END:VEVENT
BEGIN:VEVENT
DTSTART;TZID=America/Chicago:20250606T200000
DTEND;TZID=America/Chicago:20250606T220000
DTSTAMP:20260419T095815
CREATED:20250326T163708Z
LAST-MODIFIED:20250513T191145Z
UID:4339-1749240000-1749247200@www.fdlfest.com
SUMMARY:Warden
DESCRIPTION:Location: Grande Cheese Center Stage \nGenre: Acoustic Country Rock \nBand Website: CLICK HERE \nStage Sponsor: Grande Cheese \nMedia Partner: 95.1 & 96.1 The Rock
URL:https://www.fdlfest.com/event/warden/
CATEGORIES:Live Music,Walleye Weekend
END:VEVENT
END:VCALENDAR