BEGIN:VCALENDAR
VERSION:2.0
PRODID:-//Fond du Lac Festivals - ECPv6.15.20//NONSGML v1.0//EN
CALSCALE:GREGORIAN
METHOD:PUBLISH
X-ORIGINAL-URL:https://www.fdlfest.com
X-WR-CALDESC:Events for Fond du Lac Festivals
REFRESH-INTERVAL;VALUE=DURATION:PT1H
X-Robots-Tag:noindex
X-PUBLISHED-TTL:PT1H
BEGIN:VTIMEZONE
TZID:America/Chicago
BEGIN:DAYLIGHT
TZOFFSETFROM:-0600
TZOFFSETTO:-0500
TZNAME:CDT
DTSTART:20240310T080000
END:DAYLIGHT
BEGIN:STANDARD
TZOFFSETFROM:-0500
TZOFFSETTO:-0600
TZNAME:CST
DTSTART:20241103T070000
END:STANDARD
BEGIN:DAYLIGHT
TZOFFSETFROM:-0600
TZOFFSETTO:-0500
TZNAME:CDT
DTSTART:20250309T080000
END:DAYLIGHT
BEGIN:STANDARD
TZOFFSETFROM:-0500
TZOFFSETTO:-0600
TZNAME:CST
DTSTART:20251102T070000
END:STANDARD
BEGIN:DAYLIGHT
TZOFFSETFROM:-0600
TZOFFSETTO:-0500
TZNAME:CDT
DTSTART:20260308T080000
END:DAYLIGHT
BEGIN:STANDARD
TZOFFSETFROM:-0500
TZOFFSETTO:-0600
TZNAME:CST
DTSTART:20261101T070000
END:STANDARD
BEGIN:DAYLIGHT
TZOFFSETFROM:-0600
TZOFFSETTO:-0500
TZNAME:CDT
DTSTART:20270314T080000
END:DAYLIGHT
BEGIN:STANDARD
TZOFFSETFROM:-0500
TZOFFSETTO:-0600
TZNAME:CST
DTSTART:20271107T070000
END:STANDARD
END:VTIMEZONE
BEGIN:VEVENT
DTSTART;TZID=America/Chicago:20260214T100000
DTEND;TZID=America/Chicago:20260214T160000
DTSTAMP:20260419T090532
CREATED:20260112T174203Z
LAST-MODIFIED:20260112T174203Z
UID:5215-1771063200-1771084800@www.fdlfest.com
SUMMARY:DJ Galaxy on the Plaza
DESCRIPTION:Location: Thelma Sadoff Center for the Arts \n  \nEvent Details: DJ Galaxy will be playing and mixing music live during open Curling on the Plaza. \n  \nSaturday\, February 14th: 10am – 4pm
URL:https://www.fdlfest.com/event/dj-galaxy-on-the-plaza/
CATEGORIES:Live Music,Sturgeon Spectacular
END:VEVENT
BEGIN:VEVENT
DTSTART;TZID=America/Chicago:20260214T100000
DTEND;TZID=America/Chicago:20260214T160000
DTSTAMP:20260419T090532
CREATED:20250416T010830Z
LAST-MODIFIED:20260114T152229Z
UID:4554-1771063200-1771084800@www.fdlfest.com
SUMMARY:Learn to Curl
DESCRIPTION:Location: Thelma Sadoff Center for the Arts on the Plaza \n\nEvent Details: Learn to curl at Thelma Sadoff Center for the Arts on the Plaza! Many more family-fun activities are happening inside\, outside\, and around Thelma Sadoff Center for the Arts until 3 pm Sunday\, February 16th! \n\nAre you looking for information on our Outdoor Curling Funspiel curling tournament? CLICK HERE for more information! \n\n\n\nSaturday\, February 14th: 10am – 4pm \nSunday\, February 15th: 10am – 2pm \nPresented By: Leb Insurance
URL:https://www.fdlfest.com/event/learn-to-curl/
CATEGORIES:Family Fun,Sturgeon Spectacular
END:VEVENT
BEGIN:VEVENT
DTSTART;TZID=America/Chicago:20260214T100000
DTEND;TZID=America/Chicago:20260214T150000
DTSTAMP:20260419T090532
CREATED:20250416T014643Z
LAST-MODIFIED:20251215T172426Z
UID:4576-1771063200-1771081200@www.fdlfest.com
SUMMARY:High School Snow Sculping Competition
DESCRIPTION:  \nLocation: Sheboygan/ Portland Street Intersection \n  \nEvent Details: High school students from the greater Fond du Lac area will form teams of 3 to 5 and will carve a snow sculpture into their choice of design. Teams who compete will be representing their school in the competition and the winning team will take home customized matching sweatshirts and a traveling trophy to keep at their school until the next competition. Find more detailed competition information and applications at the links below…   \nCompetition Information – CLICK HERE TO DOWNLOAD \nTeam Application* – CLICK HERE TO DOWNLOAD \n*Team Application deadline is Wednesday\, January 21st\, 2026\nSaturday\, February 14th: 10am – 3pm \n  \nSponsored by: Michels Corporation
URL:https://www.fdlfest.com/event/high-school-snow-sculping-competition/
CATEGORIES:Compete,Sturgeon Spectacular
END:VEVENT
BEGIN:VEVENT
DTSTART;TZID=America/Chicago:20260214T100000
DTEND;TZID=America/Chicago:20260214T150000
DTSTAMP:20260419T090532
CREATED:20250416T013048Z
LAST-MODIFIED:20260119T165919Z
UID:4568-1771063200-1771081200@www.fdlfest.com
SUMMARY:Petting Zoo
DESCRIPTION:  \nLocation: Outside THELMA\, Sheboygan Street \n  \nEvent Details: Come on down to Sturgeon Spectacular and enjoy this petting zoo on Sheboygan Street. Enjoy the chance to get up close and personal with various farm animals. Learn\, Pet\, and Play! \n  \nSaturday\, February 14th: 10 am – 3 pm \nSunday\, February 15th: 11 am – 1 pm \n  \nPresented By: Whispering Hills Clydesdales
URL:https://www.fdlfest.com/event/petting-zoo-2/
CATEGORIES:Family Fun,Sturgeon Spectacular
END:VEVENT
BEGIN:VEVENT
DTSTART;TZID=America/Chicago:20260214T100000
DTEND;TZID=America/Chicago:20260214T140000
DTSTAMP:20260419T090532
CREATED:20250416T013653Z
LAST-MODIFIED:20260121T163913Z
UID:4571-1771063200-1771077600@www.fdlfest.com
SUMMARY:Downtown Fond du Lac Sweet Stroll
DESCRIPTION:Location: Various Business\, Downtown Fond du Lac \n  \nEvent Details: As part of the Sturgeon Spectacular Winter Festivities the weekend of February 13 – 15\, 2026 Fond du Lac Festivals is teaming up with the Downtown Fond du Lac Partnership to bring you a fun event for all ages… just in time for Valentine’s Day. Open to all ages! \n  \nOn the morning of the event bring your ticket to 131 S. Main Street to check-in. There you will receive your official Sweet Stroll map. Check in at this location from 9 am to 1 pm. \n  \nJoin us for a walk around downtown and vote for the best sweets in town! \nParticipating Locations \n\nCC’s Chocolates – 57 N Main St\nDreamcatcher’s Corner – 167 S Main St\nFond du Lac Cyclery –  209 S Main St\nGallery & Frame – 94 S Main St\nActive Full Armor Fitness Studio – 15 E First St\nOhana Axe Studio – 25 N Main St\nWonder – 15 N Main St\nCutter Vac & Home Center – 32 N Main St\nBird’s Eye View Optical – 19 S Main St\n18 Hands Ale Haus – 18 E Division St\nFat Joe’s – 15 W Division St\nJenna H Beauty – 1 S Main St – Lower Level\n\n  \nOnly 200 tickets sold (while supplies last) – available online only! Click here.\n \n  \nSaturday\, February 14th: 10am – 2pm \n  \nSponsored by: Downtown Fond du Lac Partnership
URL:https://www.fdlfest.com/event/downtown-fond-du-lac-sweet-stroll/
CATEGORIES:Family Fun,Sturgeon Spectacular
END:VEVENT
BEGIN:VEVENT
DTSTART;TZID=America/Chicago:20260214T090000
DTEND;TZID=America/Chicago:20260214T210000
DTSTAMP:20260419T090532
CREATED:20250416T014805Z
LAST-MODIFIED:20260209T172751Z
UID:4577-1771059600-1771102800@www.fdlfest.com
SUMMARY:Downtown Sturgeon Scavenger Hunt
DESCRIPTION:Location: Various Downtown Businesses \n  \nEvent Details: Explore Downtown Fond du Lac in 2026 through the Downtown Sturgeon Scavenger Hunt! Join the Hunt for your chance to win! PRIZE INFORMATION COMING SOON! \nTo join\, you can pick up a entry at Thelma Sadoff Center for the Arts or any one of the participating locations. Participating locations will be marked by an official Sturgeon Scavenger Hunt Sign with instructions. ALL ENTRIES MUST BE RETURNED TO THELMA AT THE INFO TABLE BY SUNDAY\, FEBRUARY 15TH AT 3PM. \n  \nRules: \nPick up an entry at THELMA or any one of the participating locations and navigate to each of the businesses listed to find the sturgeon and the corresponding letter hidden in their front windows. Match this letter with the number next to the business on the entry and write in the letter to decode a secret message. Once the secret message is decoded\, you can turn in your entry at THELMA for your chance to win the prize below! \nWinner will be notified and announced on Facebook on Monday\, February 16th! \n  \nPrize: Family Ice-Fishing package from Bird’s Eye View Optical (Over $500 value) – includes 1 Aitium insulated backpack\, 1 pair of Oakley Sunglasses\, 1 Oakley glasses case\, 1 Oakley t-shirt\, 1 $100 Scheels giftcard\, 1 Oakley hat\, and 1 Bird’s Eye View Optical stainless steel tumbler \n  \nParticipating Locations: \n\nGallery & Frame Shop – 94 S Main St\nRadio Plus Studios – 210 S Main St\nCC’s Chocolate Café – 57 N Macy St\nFond du Lac Cyclery – 209 S Main St\nLa Belle FDL – 1 N Main St\nBirds Eye View Optical – 19 S Main St\n18 Hands Ale Haus – 18 E Division St\nArgentum et Aurum – 111 S Main St\nBeauty Republic – 131 S Main St\, Suite 100\nCujak’s Wine & Spirits – 47 N Main St\nLillian’s – 27 S Main St\nBlue Marble Botanicals – 28 N Main St\nThelma Sadoff Center for the Arts – 51 Sheboygan St\nDestination Lake Winnebago Region – 23 S Main St\nBlue Line Tavern – 88 S Main St\nDowntown Deli – 90 S Main St\nWonder Play Cafe – 15 N Main St\nThe Diner – 175 S Main St
URL:https://www.fdlfest.com/event/downtown-sturgeon-scavenger-hunt-2/
CATEGORIES:Family Fun,Sturgeon Spectacular
END:VEVENT
BEGIN:VEVENT
DTSTART;TZID=America/Chicago:20260214T090000
DTEND;TZID=America/Chicago:20260214T180000
DTSTAMP:20260419T090532
CREATED:20250416T014221Z
LAST-MODIFIED:20260105T174902Z
UID:4574-1771059600-1771092000@www.fdlfest.com
SUMMARY:Outdoor Curling Funspiel
DESCRIPTION:Location: Fond du Lac Beer Company \n  \nEvent Details: Join us for the return of the Fond du Lac Outdoor Floor Curling Funspiel. This tournament is fun AND competitive.  Each match will last about 45 minutes. All curling equipment will be provided. The tournament is scheduled for Saturday\, February 14th. Open to all ages and levels. Get your team of 3 – 6 people (at least 3 are required to compete in each match) together and sign up. Teams are guaranteed at least 2 matches in this double elimination tournament. Registration will be capped at 16 teams. If the playing field is full\, 1st place will win $300\, 2nd place will win $200\, and 3rd place will win $100. Come out and cheer these curlers! \nTwo ice curling rinks will be set up at Fond du Lac Beer Company in Downtown Fond du Lac – 21 4th St\, Fond du Lac\, WI \n  \nCLICK HERE AND GET YOUR TEAM SIGNED UP TODAY.  DEADLINE IS WEDNESDAY\, JANUARY 28TH! \n  \nThe schedule will be sent out Wednesday prior to the tournament. \nIf you have any questions reach out to Peter Wilke via email (director@fdlfest.com) or phone (920.923.6555). \n  \nSaturday\, February 14th: 9am – 6pm \n  \nSponsored by: Leb Insurance and Fond du Lac Beer Company
URL:https://www.fdlfest.com/event/downtown-floor-curling-funspiel/
CATEGORIES:Compete,Family Fun,Sturgeon Spectacular
END:VEVENT
BEGIN:VEVENT
DTSTART;TZID=America/Chicago:20260214T090000
DTEND;TZID=America/Chicago:20260214T160000
DTSTAMP:20260419T090532
CREATED:20260121T190625Z
LAST-MODIFIED:20260206T151412Z
UID:5232-1771059600-1771084800@www.fdlfest.com
SUMMARY:Winter Fun at the Fond du Lac Children's Museum
DESCRIPTION:  \nLocation: Fond du Lac Children’s Museum – 75 W Scott Street \n  \nEvent Details: Join the fun at the Fond du Lac Children’s Museum. The first 100 kids get a free shinny stick (miniature hockey stick). Children can also participate in… \n\nDecorating a replica of last year’s largest sturgeon catch\nExploring the new Kleinfeldt Winter Wonderland\nPlaying in Shantytown\nFind Sturgeon Hidden in CMFDL\nTrying Curling & Shinny\nCreating heart crafts & more!\n\n  \nSaturday\, February 14th: 9am – 4pm \n  \n \n  \nIn Partnership With: Blue Line Family Ice Center and Marlys & Dr. John Welsch
URL:https://www.fdlfest.com/event/winter-fun-at-the-fond-du-lac-childrens-museum/
CATEGORIES:Family Fun,Sturgeon Spectacular
END:VEVENT
BEGIN:VEVENT
DTSTART;TZID=America/Chicago:20260214T090000
DTEND;TZID=America/Chicago:20260214T120000
DTSTAMP:20260419T090532
CREATED:20250416T014529Z
LAST-MODIFIED:20260121T223725Z
UID:4575-1771059600-1771070400@www.fdlfest.com
SUMMARY:5K Run/Walk & Kids Fun Runpresented by SSM Health
DESCRIPTION:Location: Routes through Downtown Fond du Lac \n  \nEvent Details: Come and join us for a scenic run throughout Downtown  Fond du Lac.  The course will circle through and tour Fond du Lac.  Registration will be open until the day of the run/walk.  Race day registration will begin at 9am on Saturday\, February 14th Downtown at Thelma Sadolff Center for the Arts. The 1/2 mile Kids Fun Run for ages 12 and under is absolutely free and includes a shirt. \nEarly registration for the 5K Run/Walk will be available through midnight\, February 1st.  You can still get a 2026 commemorative\, long-sleeved T-shirt and registration for $15.  After Sunday\, February 1st\, the price will be $20 and it will NOT include a Sturgeon Spectacular long-sleeve T-shirt. \nParticipants with strollers and/or dogs are asked to please line up in the back at the start.  Please stick around for other awesome Sturgeon Spectacular festivities within Downtown Fond du Lac. \n  \nOn-site check-in:  9 am\n1/2-Mile Kids Fun Run for ages 12 and under:  10 am\n5K Run/Walk:  10:30 am \n  \nRegister Here: CLICK HERE \n  \nSponsored by: SSM Health \n  \nIn Partnership with: Fond du Lac Running Club \n  \n 
URL:https://www.fdlfest.com/event/5k-run-walk-kids-fun-runpresented-by-ssm-health/
CATEGORIES:Compete,Family Fun,Sturgeon Spectacular
END:VEVENT
BEGIN:VEVENT
DTSTART;VALUE=DATE:20260214
DTEND;VALUE=DATE:20260215
DTSTAMP:20260419T090532
CREATED:20250416T015121Z
LAST-MODIFIED:20251208T191048Z
UID:4579-1771027200-1771113599@www.fdlfest.com
SUMMARY:Wisconsin Snow Sculpting Championship presented by Grande Cheese
DESCRIPTION:Location: Sheboygan St\, Downtown Fond du Lac \n  \nEvent Details: The best snow sculptors in the state travel to Fond du Lac to compete in the 2026 Wisconsin Snow Sculpting Competition in hopes of winning a trip to the 2027 US Championship and a $1\,000 1st Prize.  Sculpting all weekend long. \n\nDaily Schedule:\n*Some teams compete well into the early morning hours.  Hours vary by day/team. \nFriday\, February 13\, 2026*\n1 pm – Teams arrive onsite and begin sculpting \nSaturday\, February 14\, 2026*\n8 am  – 10 pm – Competition Site Open for Viewing \nSunday\, February 15\, 2026*\nTeams Compete\nPeople’s Choice Ballots must be turned in at Info Table inside THELMA by 11:00 am\nTools Down/ Official Judging begins at 1 pm\nAwards Ceremony & Spectacular Finale starts at 1:30 pm \n  \nPresenting Sponsor:  Grande Cheese Company \nOfficial Snow Provider:   Sunburst Ski Hill \nTransportation provided by:   Baumhardt Trucking of Eden \n2025 Meals & Hotels covered by Destination Lake Winnebago Region
URL:https://www.fdlfest.com/event/wisconsin-snow-sculpting-championship-presented-by-grande-cheese-2/
CATEGORIES:Compete,Sturgeon Spectacular
END:VEVENT
BEGIN:VEVENT
DTSTART;TZID=America/Chicago:20260213T180000
DTEND;TZID=America/Chicago:20260213T210000
DTSTAMP:20260419T090532
CREATED:20250416T015450Z
LAST-MODIFIED:20260204T190723Z
UID:4581-1771005600-1771016400@www.fdlfest.com
SUMMARY:Sturgeon Spectacular Kickoff Celebration and Live Music
DESCRIPTION:Location: The Great Hall inside THELMA \n  \nEvent Details: THELMA is bringing live music  and a free concert to help kick off the Sturgeon Spectacular weekend in style in the Grand Hall inside THELMA!  Enjoy music inside THELMA and warm up by dancing or enjoying a hot beverage! Plus watch ice and snow sculptors start on their pieces. Make sure to come back throughout the weekend to check their progress! \n  \nFriday\, February 13th: 7:30pm – 9:30pm \n\nGreat Hall Bar: Opens at 6:30pm \nLive Music: Copper Box starting at 7:30 in The Great Hall \n  \nPresented by: Thelma Sadoff Center for the Arts\nLighting of the  Sculptures presented by: Wisconsin Lighting Lab
URL:https://www.fdlfest.com/event/sturgeon-spectacular-kick-off-celebration-and-live-music/
CATEGORIES:Live Music,Sturgeon Spectacular
END:VEVENT
BEGIN:VEVENT
DTSTART;TZID=America/Chicago:20260213T163000
DTEND;TZID=America/Chicago:20260213T190000
DTSTAMP:20260419T090532
CREATED:20250416T015914Z
LAST-MODIFIED:20251229T163748Z
UID:4584-1771000200-1771009200@www.fdlfest.com
SUMMARY:Sturgeon Spectacular Kids Kickoff
DESCRIPTION:Location: Fountain City inside THELMA \n  \nEvent Details: Join us at Thelma Sadoff center for the Arts to kickoff to Sturgeon Spectacular 2026\, featuring a fun balloon show “Half Twisted”\, entertainment\, and prizes! Kids will love the annual opportunity to spear Jerry the Sturgeon and parents will love the complimentary adult beverages. The Kids Kickoff will be taking place inside THELMA in the first floor Fountain City from 4:30 pm to 7 pm. FREE FOOD for the kids and so much more courtesy of Destination Lake Winnebago Region! \n  \nFriday\, February 13th: 4:30pm – 7pm \nHalf Twisted Shows: 4:30pm – 5:30pm\, 6pm – 7pm \n  \nPresented by: Destination Lake Winnebago Region \n  \n \n  \n 
URL:https://www.fdlfest.com/event/sturgeon-spectacular-kids-kickoff/
CATEGORIES:Family Fun,Sturgeon Spectacular
END:VEVENT
BEGIN:VEVENT
DTSTART;TZID=America/Chicago:20260213T130000
DTEND;TZID=America/Chicago:20260213T210000
DTSTAMP:20260419T090532
CREATED:20250416T015631Z
LAST-MODIFIED:20260209T172653Z
UID:4582-1770987600-1771016400@www.fdlfest.com
SUMMARY:Downtown Sturgeon Scavenger Hunt
DESCRIPTION:Location: Various Downtown Businesses \n  \nEvent Details: Explore Downtown Fond du Lac in 2026 through the Downtown Sturgeon Scavenger Hunt! Join the Hunt for your chance to win! PRIZE INFORMATION COMING SOON! \nTo join\, you can pick up a entry at Thelma Sadoff Center for the Arts or any one of the participating locations. Participating locations will be marked by an official Sturgeon Scavenger Hunt Sign with instructions. ALL ENTRIES MUST BE RETURNED TO THELMA AT THE INFO TABLE BY SUNDAY\, FEBRUARY 15TH AT 3PM. \n  \nRules: \nPick up an entry at THELMA or any one of the participating locations and navigate to each of the businesses listed to find the sturgeon and the corresponding letter hidden in their front windows. Match this letter with the number next to the business on the entry and write in the letter to decode a secret message. Once the secret message is decoded\, you can turn in your entry at THELMA for your chance to win the prize below! \nWinners will be notified and announced on Facebook on Monday\, February 16th! \n  \nPrize: Family Ice-Fishing package from Bird’s Eye View Optical (Over $500 value) – includes 1 Aitium insulated backpack\, 1 pair of Oakley Sunglasses\, 1 Oakley glasses case\, 1 Oakley t-shirt\, 1 $100 Scheels giftcard\, 1 Oakley hat\, and 1 Bird’s Eye View Optical stainless steel tumbler \n  \nParticipating Locations: \n\nGallery & Frame Shop – 94 S Main St\nRadio Plus Studios – 210 S Main St\nCC’s Chocolate Café – 57 N Macy St\nFond du Lac Cyclery – 209 S Main St\nLa Belle FDL – 1 N Main St\nBirds Eye View Optical – 19 S Main St\n18 Hands Ale Haus – 18 E Division St\nArgentum et Aurum – 111 S Main St\nBeauty Republic – 131 S Main St\, Suite 100\nCujak’s Wine & Spirits – 47 N Main St\nLillian’s – 27 S Main St\nBlue Marble Botanicals – 28 N Main St\nThelma Sadoff Center for the Arts – 51 Sheboygan St\nDestination Lake Winnebago Region – 23 S Main St\nBlue Line Tavern – 88 S Main St\nDowntown Deli – 90 S Main St\nWonder Play Cafe – 15 N Main St\nThe Diner – 175 S Main St
URL:https://www.fdlfest.com/event/sturgeon-scavenger-hunt/
CATEGORIES:Family Fun,Sturgeon Spectacular
END:VEVENT
BEGIN:VEVENT
DTSTART;VALUE=DATE:20260213
DTEND;VALUE=DATE:20260214
DTSTAMP:20260419T090532
CREATED:20250416T020034Z
LAST-MODIFIED:20251208T190943Z
UID:4585-1770940800-1771027199@www.fdlfest.com
SUMMARY:Wisconsin Snow Sculpting Championship presented by Grande Cheese
DESCRIPTION:Location: Sheboygan St\, Downtown Fond du Lac \n  \nEvent Details: The best snow sculptors in the state travel to Fond du Lac to compete in the 2026 Wisconsin Snow Sculpting Competition in hopes of winning a trip to the 2027 US Championship and a $1\,000 1st Prize.  Sculpting all weekend long. \n\nDaily Schedule:\n*Some teams compete well into the early morning hours.  Hours vary by day/team. \nFriday\, February 13\, 2026*\n1 pm – Teams arrive onsite and begin sculpting \nSaturday\, February 14\, 2026*\n8 am  – 10 pm – Competition Site Open for Viewing \nSunday\, February 15\, 2026*\nTeams Compete\nPeople’s Choice Ballots must be turned in at Info Table inside THELMA by 11:00 am\nTools Down/ Official Judging begins at 1 pm\nAwards Ceremony & Spectacular Finale starts at 1:30 pm \n  \nPresenting Sponsor:  Grande Cheese Company \nOfficial Snow Provider:   Sunburst Ski Hill \nTransportation provided by:   Baumhardt Trucking of Eden \n2025 Meals & Hotels covered by Destination Lake Winnebago Region
URL:https://www.fdlfest.com/event/wisconsin-snow-sculpting-championship-presented-by-grande-cheese-3/
CATEGORIES:Compete,Sturgeon Spectacular
END:VEVENT
BEGIN:VEVENT
DTSTART;TZID=America/Chicago:20260101T110000
DTEND;TZID=America/Chicago:20260216T113000
DTSTAMP:20260419T090532
CREATED:20250416T020157Z
LAST-MODIFIED:20250416T033954Z
UID:4586-1767265200-1771241400@www.fdlfest.com
SUMMARY:Sunburst "Best Memories" Photo Contest
DESCRIPTION:Join us in celebrating the Sturgeon Spectacular\, the beauty of winter\, and more importantly SNOW!  Sunburst Ski Hill believes that the best memories are made with snow\, and we agree!  Get your family\, friends\, or go outside solo and find your best winter backdrop. \nContest Rules: \nAll ages are eligible to participate.  Submit a photo to Facebook using #SunburstBestMemories or send an email to info@fdlfest.com with subject line “Sunburst Best Memories” before midnight on Monday\, February 16th and you’ll be entered to win four Sunburst ski or tubing passes and some really cool Sturgeon Spectacular gear.  Judges will select the winner from all entrants on Thursday\, February 19th and the winner will be posted on the Fond du Lac Festivals and Destination Lake Winnebago Facebook pages. \nTo qualify\, photos must include snow and capture “The Best Memories”. \nPRESENTED BY:
URL:https://www.fdlfest.com/event/sunburst-best-memories-photo-contest-2/
CATEGORIES:Compete,Sturgeon Spectacular
END:VEVENT
BEGIN:VEVENT
DTSTART;TZID=America/Chicago:20260101T110000
DTEND;TZID=America/Chicago:20260216T113000
DTSTAMP:20260419T090532
CREATED:20250407T144501Z
LAST-MODIFIED:20250416T034047Z
UID:4525-1767265200-1771241400@www.fdlfest.com
SUMMARY:Sunburst “Best Memories” Photo Contest
DESCRIPTION:Join us in celebrating the Sturgeon Spectacular\, the beauty of winter\, and more importantly SNOW!  Sunburst Ski Hill believes that the best memories are made with snow\, and we agree!  Get your family\, friends\, or go outside solo and find your best winter backdrop. \nContest Rules: \nAll ages are eligible to participate.  Submit a photo to Facebook using #SunburstBestMemories or send an email to info@fdlfest.com with subject line “Sunburst Best Memories” before midnight on Monday\, February 16th and you’ll be entered to win four Sunburst ski or tubing passes and some really cool Sturgeon Spectacular gear.  Judges will select the winner from all entrants on Thursday\, February 19th and the winner will be posted on the Fond du Lac Festivals and Destination Lake Winnebago Facebook pages. \nTo qualify\, photos must include snow and capture “The Best Memories”.
URL:https://www.fdlfest.com/event/sunburst-best-memories-photo-contest/
CATEGORIES:Compete,Sturgeon Spectacular
END:VEVENT
BEGIN:VEVENT
DTSTART;TZID=America/Chicago:20251215T080000
DTEND;TZID=America/Chicago:20260214T170000
DTSTAMP:20260419T090532
CREATED:20250407T145457Z
LAST-MODIFIED:20251229T155029Z
UID:4526-1765785600-1771088400@www.fdlfest.com
SUMMARY:ACE Academy Shanty Raffle
DESCRIPTION:Location: The Raffle Drawing will take place at Thelma Sadoff Center for the Arts. Tickets will be sold outside of Thelma the day of the raffle\, but are available ahead of time at several locations listed below. \n  \nTHE ACE ACADEMY SHANTY RAFFLE IS A MAJOR FUNDRAISER FOR THE ACE ACADEMY.  SINCERE APPRECIATION FOR ALL THE BUSINESS PARTNERS THAT SUPPORT THE ACADEMY AND THIS PROJECT \n  \nEvent Details: The ACE Shanties Project was spearheaded by C.D. Smith Construction’s Foundation Committee with material donations provided by a variety of local businesses. The project began in May of 2019 with blueprints\, construction began in September of the same year\, and the project was completed in early 2020. \nTo raise funds for the A.C.E. Academy and raffle supporters\, Foot of the Lake Fishing Club\, one of the shanties has been raffled off during the Sturgeon Spectacular festivities 6 out of the last 7 years. \n  \n$10 raffle tickets will be available at the following locations while supplies last. Tickets will be available in late December. (Maximum of 1\,000 tickets sold): \n\nHopper’s Silk Screening & All Star Trophy – 77 N. Main Street\, Fond du Lac\, WI\nBlue Line Tavern – 90 S. Main Street\, Fond du Lac\, WI\nEden Corner Express (next to Eden Meat Market) – 301 W. Main Street\, Eden\, WI\nRipp’n Lips Outdoor (2 locations)\n\n258 N. Main St.\, Fond du Lac\, WI\n106 S. Military Rd.\, Stockbridge\, WI\n\n\n\n  \n1st Place: ACE ACADEMY SHANTY \nBowe Metal Fabrication + Repair Frame with Leaf Springs\, 6.5′ x 12′ Center Hole\, Finished Interior\nValue:  $7\,000+ \n2nd Place: Underwater Electronic Viewing System (Estimated Value: $600)\n*donated by Fleet Farm of Fond du Lac \n3rd Place: Ice Fishing Equipment Package (Estimated Value: $200)\n*donated by Fleet Farm of Fond du Lac \n  \nThe raffle winners will offically be drawn on Saturday\, February 14th at 2pm at Thelma Sadoff Center for the Arts. \n  \nSponsored by: C.D. Smith
URL:https://www.fdlfest.com/event/ace-academy-shanty-raffle/
CATEGORIES:Sturgeon Spectacular
END:VEVENT
END:VCALENDAR