BEGIN:VCALENDAR
VERSION:2.0
PRODID:-//Fond du Lac Festivals - ECPv6.15.20//NONSGML v1.0//EN
CALSCALE:GREGORIAN
METHOD:PUBLISH
X-ORIGINAL-URL:https://www.fdlfest.com
X-WR-CALDESC:Events for Fond du Lac Festivals
REFRESH-INTERVAL;VALUE=DURATION:PT1H
X-Robots-Tag:noindex
X-PUBLISHED-TTL:PT1H
BEGIN:VTIMEZONE
TZID:America/Chicago
BEGIN:DAYLIGHT
TZOFFSETFROM:-0600
TZOFFSETTO:-0500
TZNAME:CDT
DTSTART:20250309T080000
END:DAYLIGHT
BEGIN:STANDARD
TZOFFSETFROM:-0500
TZOFFSETTO:-0600
TZNAME:CST
DTSTART:20251102T070000
END:STANDARD
BEGIN:DAYLIGHT
TZOFFSETFROM:-0600
TZOFFSETTO:-0500
TZNAME:CDT
DTSTART:20260308T080000
END:DAYLIGHT
BEGIN:STANDARD
TZOFFSETFROM:-0500
TZOFFSETTO:-0600
TZNAME:CST
DTSTART:20261101T070000
END:STANDARD
BEGIN:DAYLIGHT
TZOFFSETFROM:-0600
TZOFFSETTO:-0500
TZNAME:CDT
DTSTART:20270314T080000
END:DAYLIGHT
BEGIN:STANDARD
TZOFFSETFROM:-0500
TZOFFSETTO:-0600
TZNAME:CST
DTSTART:20271107T070000
END:STANDARD
END:VTIMEZONE
BEGIN:VEVENT
DTSTART;TZID=America/Chicago:20260612T160000
DTEND;TZID=America/Chicago:20260612T180000
DTSTAMP:20260425T135650
CREATED:20240422T223047Z
LAST-MODIFIED:20260401T155545Z
UID:3162-1781280000-1781287200@www.fdlfest.com
SUMMARY:Suzie & The Detonators
DESCRIPTION:  \nLocation: Center Stage \n  \nEvent Details: Based out of the Sheboygan area\, Suzie & the Detonators is a high energy\, 5-piece pop\, rock and disco cover band. Since its beginnings in 2019\, their combination of talent\, song selection\, entertainment\, musicianship and versatility are sure to be a crowd pleaser. \nFriday\, June 12th: 4pm – 6pm \n  \nStage Sponsor: Holiday Automotive \n  \nRadio Partner: Sunny 97.7
URL:https://www.fdlfest.com/event/suzie-the-detonators/
LOCATION:EmailLogo2-1
CATEGORIES:Music
END:VEVENT
BEGIN:VEVENT
DTSTART;TZID=America/Chicago:20260612T160000
DTEND;TZID=America/Chicago:20260612T190000
DTSTAMP:20260425T135650
CREATED:20250512T165354Z
LAST-MODIFIED:20260409T170902Z
UID:4864-1781280000-1781290800@www.fdlfest.com
SUMMARY:Sunny 97.7 Prize Wheel & Live Shows
DESCRIPTION:  \nLocation: 3 – way Main St\, Fraiser\, and Promen St. intersection \n  \nEvent Details: Sunny 97.7 and 95.1 & 96.1 The Rock visit Walleye Weekend June 12th\, 13th\, and 14th with Live Shows and a prize wheel! \n  \nFriday\, June 12th: 4pm – 7pm \nSaturday\, June 13th: 11am – 5pm \nSunday\, June 14th: 11am – 3pm \n  \nSponsored by: Sunny 97.7\, 95.1 & 96.1 The Rock
URL:https://www.fdlfest.com/event/sunny-97-7-prize-wheel-live-shows/
CATEGORIES:Music,Walleye Weekend
END:VEVENT
END:VCALENDAR