BEGIN:VCALENDAR
VERSION:2.0
PRODID:-//Fond du Lac Festivals - ECPv6.15.20//NONSGML v1.0//EN
CALSCALE:GREGORIAN
METHOD:PUBLISH
X-WR-CALNAME:Fond du Lac Festivals
X-ORIGINAL-URL:https://www.fdlfest.com
X-WR-CALDESC:Events for Fond du Lac Festivals
REFRESH-INTERVAL;VALUE=DURATION:PT1H
X-Robots-Tag:noindex
X-PUBLISHED-TTL:PT1H
BEGIN:VTIMEZONE
TZID:America/Chicago
BEGIN:DAYLIGHT
TZOFFSETFROM:-0600
TZOFFSETTO:-0500
TZNAME:CDT
DTSTART:20220313T080000
END:DAYLIGHT
BEGIN:STANDARD
TZOFFSETFROM:-0500
TZOFFSETTO:-0600
TZNAME:CST
DTSTART:20221106T070000
END:STANDARD
BEGIN:DAYLIGHT
TZOFFSETFROM:-0600
TZOFFSETTO:-0500
TZNAME:CDT
DTSTART:20230312T080000
END:DAYLIGHT
BEGIN:STANDARD
TZOFFSETFROM:-0500
TZOFFSETTO:-0600
TZNAME:CST
DTSTART:20231105T070000
END:STANDARD
BEGIN:DAYLIGHT
TZOFFSETFROM:-0600
TZOFFSETTO:-0500
TZNAME:CDT
DTSTART:20240310T080000
END:DAYLIGHT
BEGIN:STANDARD
TZOFFSETFROM:-0500
TZOFFSETTO:-0600
TZNAME:CST
DTSTART:20241103T070000
END:STANDARD
END:VTIMEZONE
BEGIN:VEVENT
DTSTART;TZID=America/Chicago:20230609T170000
DTEND;TZID=America/Chicago:20230609T210000
DTSTAMP:20260419T213206
CREATED:20230606T020954Z
LAST-MODIFIED:20250313T141045Z
UID:3101-1686330000-1686344400@www.fdlfest.com
SUMMARY:Walleye Weekend Karaoke
DESCRIPTION:Friday\, June 9th: 5:00 pm – 9:00pm \nSaturday\, June 10th: 2:00 pm – 8:00pm \nSunday\, June 11th: 1:00 pm – 5:00pm \n  \nHave you always wanted to play a Walleye Weekend stage?  Now you can\, come to the Downtown Fond du Lac Night Market stage set up on Oven Island all weekend long and sing your favorite hit.  Prizes will be given out throughout the weekend with the best of the best being invited back to compete in a Sunday contest. \n  \nPresented by: \n \n  \nIn partnership with:
URL:https://www.fdlfest.com/event/walleye-weekend-karaoke/
LOCATION:FFI Promotional Piece – 2024
ATTACH;FMTTYPE=image/png:https://www.fdlfest.com/wp-content/uploads/2025/03/Spectrum_Logo-2018.png
END:VEVENT
BEGIN:VEVENT
DTSTART;TZID=America/Chicago:20230609T150000
DTEND;TZID=America/Chicago:20230609T190000
DTSTAMP:20260419T213206
CREATED:20230323T013135Z
LAST-MODIFIED:20250313T140838Z
UID:3057-1686322800-1686337200@www.fdlfest.com
SUMMARY:FamilyLand Sea Hamsters
DESCRIPTION:Kids of all ages can get inside these floating inflatable balls and play a game of Bumper Balls.  Fun to watch and really fun to play! \n  \nFriday\, June 9th   3:00 pm – 7:00 pm\nSaturday\, June 10th 10:00 am – 7:00 pm\nSunday\, June 11th    11:00 am – 5:30 pm \n  \nPresented By:
URL:https://www.fdlfest.com/event/familyland-sea-hamsters/
ATTACH;FMTTYPE=image/jpeg:https://www.fdlfest.com/wp-content/uploads/2025/03/GrandeCheeseCo.jpg
END:VEVENT
BEGIN:VEVENT
DTSTART;TZID=America/Chicago:20230609T150000
DTEND;TZID=America/Chicago:20230609T190000
DTSTAMP:20260419T213206
CREATED:20230323T012327Z
LAST-MODIFIED:20250313T140838Z
UID:3056-1686322800-1686337200@www.fdlfest.com
SUMMARY:FamilyLand Obstacle Courses
DESCRIPTION:Kids of all ages can check out the obstacle courses and challenge their friends to see who can complete the course the fastest.   \n  \nFriday\, June 9th             3:00 pm – 7:00 pm\nSaturday\, June 10th      10:00 am – 7:00 pm\nSunday\, June 11th         11:00 am – 5:30 pm \n  \nPresented By:
URL:https://www.fdlfest.com/event/familyland-obstacle-courses/
ATTACH;FMTTYPE=image/jpeg:https://www.fdlfest.com/wp-content/uploads/2025/03/GrandeCheeseCo.jpg
END:VEVENT
BEGIN:VEVENT
DTSTART;TZID=America/Chicago:20230609T150000
DTEND;TZID=America/Chicago:20230609T190000
DTSTAMP:20260419T213206
CREATED:20230323T012212Z
LAST-MODIFIED:20250313T140838Z
UID:3054-1686322800-1686337200@www.fdlfest.com
SUMMARY:FamilyLand Toddler Bounce & Slide
DESCRIPTION:The little ones will have the ability to explore this bounce house and take a plunge down the big squishy slide and not worry about the big kids knocking them around.  Ages 3 – 6 preferred. \n  \nFriday\, June 9th       3:00 pm – 7:00 pm\nSaturday\, June 10th 10:00 am – 7:00 pm\nSunday\, June 11th     11:00 am – 5:30 pm \n  \nPresented By:
URL:https://www.fdlfest.com/event/familyland-toddler-bounce-slide/
ATTACH;FMTTYPE=image/jpeg:https://www.fdlfest.com/wp-content/uploads/2025/03/GrandeCheeseCo.jpg
END:VEVENT
BEGIN:VEVENT
DTSTART;TZID=America/Chicago:20230609T150000
DTEND;TZID=America/Chicago:20230609T180000
DTSTAMP:20260419T213206
CREATED:20230324T195735Z
LAST-MODIFIED:20250313T140906Z
UID:3072-1686322800-1686333600@www.fdlfest.com
SUMMARY:Burke Scavenger Hunt
DESCRIPTION:Play That Moves YouⓇ\nJoin us for the Burke Scavenger Hunt all weekend long. Enjoy all the Burke Playground Equipment Lakeside Park has to enjoy including the ALL-NEW MOVMNT XTREMEⓇ electronic game. Grab a playing card at the Burke tent and perform all the actions\, on\, and around the playground. Prizes available for all participants ages 2-12. \nFriday\, June 9th \n3:00 – 6:00 pm \nSaturday\, June 10th \n10:00 am – 6:00 pm\nSunday\, June 11th\n12:00-4:00 pm \n  \nFor more information click here \nPresented by : \n \n  \n  \n  \n  \n  \nPlay Burke’s ALL-NEW MOVMNT Game! \nGet the whole family moving at Walleye Weekend with MOVMNT XTREMEⓇ \n  \nThe next generation of play is here. It’s inspired. It’s innovative. It will test your fitness\, your agility and your speed. It’s for people of all ages and abilities. It’s MOVMNT and it will move you more than you thought possible. MOVMNT is an electronic game that is powered by people. Users power up the game and dive into the numerous game options from single player to multi-player and individual achievement to team spirit. It’s a huge video game that disguises exercise as entertainment and fosters healthy competition and determination. With two versions\, everyone can play and be challenged at their level. Welcome to the MOVMNT.
URL:https://www.fdlfest.com/event/3067/
END:VEVENT
END:VCALENDAR